![]() | Name | Last modified | Size | Description |
---|---|---|---|---|
![]() | Parent Directory | - | ||
![]() | buildsrc-out.txt | 01-Oct-2023 00:36 | 873 | |
![]() | buildsrc-summary.dcf | 01-Oct-2023 00:36 | 421 | |
![]() | checksrc-out.txt | 01-Oct-2023 00:36 | 4.7K | |
![]() | checksrc-summary.dcf | 01-Oct-2023 00:36 | 418 | |
![]() | install-out.txt | 01-Oct-2023 00:36 | 963 | |
![]() | install-summary.dcf | 01-Oct-2023 00:36 | 261 | |