![]() | Name | Last modified | Size | Description |
---|---|---|---|---|
![]() | Parent Directory | - | ||
![]() | buildbin-out.txt | 03-Oct-2023 00:39 | 1.2K | |
![]() | buildbin-summary.dcf | 03-Oct-2023 00:39 | 536 | |
![]() | buildsrc-out.txt | 03-Oct-2023 00:39 | 883 | |
![]() | buildsrc-summary.dcf | 03-Oct-2023 00:39 | 431 | |
![]() | checksrc-out.txt | 03-Oct-2023 00:39 | 4.5K | |
![]() | checksrc-summary.dcf | 03-Oct-2023 00:39 | 448 | |
![]() | install-out.txt | 03-Oct-2023 00:39 | 1.0K | |
![]() | install-summary.dcf | 03-Oct-2023 00:39 | 271 | |