Name | Last modified | Size | Description | |
---|---|---|---|---|
Parent Directory | - | |||
buildbin-summary.dcf | 28-Jul-2024 00:40 | 494 | ||
buildbin-out.txt | 28-Jul-2024 00:40 | 1.0K | ||
checksrc-out.txt | 28-Jul-2024 00:40 | 5.6K | ||
checksrc-summary.dcf | 28-Jul-2024 00:40 | 433 | ||
buildsrc-out.txt | 28-Jul-2024 00:40 | 883 | ||
buildsrc-summary.dcf | 28-Jul-2024 00:40 | 439 | ||
install-out.txt | 28-Jul-2024 00:40 | 962 | ||
install-summary.dcf | 28-Jul-2024 00:40 | 261 | ||