Name | Last modified | Size | Description | |
---|---|---|---|---|
Parent Directory | - | |||
checksrc-out.txt | 09-Jul-2024 00:45 | 5.8K | ||
install-out.txt | 07-Jul-2024 00:45 | 933 | ||
buildsrc-out.txt | 09-Jul-2024 00:45 | 844 | ||
buildsrc-summary.dcf | 09-Jul-2024 00:45 | 395 | ||
checksrc-summary.dcf | 09-Jul-2024 00:45 | 391 | ||
install-summary.dcf | 07-Jul-2024 00:45 | 240 | ||