Name | Last modified | Size | Description | |
---|---|---|---|---|
Parent Directory | - | |||
buildbin-out.txt | 29-Mar-2024 00:38 | 5.6K | ||
buildbin-summary.dcf | 29-Mar-2024 00:38 | 519 | ||
buildsrc-out.txt | 29-Mar-2024 00:38 | 875 | ||
buildsrc-summary.dcf | 29-Mar-2024 00:38 | 455 | ||
checksrc-out.txt | 29-Mar-2024 00:38 | 5.8K | ||
checksrc-summary.dcf | 29-Mar-2024 00:38 | 449 | ||
install-out.txt | 29-Mar-2024 00:38 | 5.4K | ||
install-summary.dcf | 29-Mar-2024 00:38 | 270 | ||