Back to Multiple platform build/check report for BioC 3.17: simplified long |
|
This page was generated on 2023-04-01 11:05:35 -0400 (Sat, 01 Apr 2023).
Hostname | OS | Arch (*) | R version | Installed pkgs |
---|---|---|---|---|
nebbiolo1 | Linux (Ubuntu 22.04.1 LTS) | x86_64 | R Under development (unstable) (2023-03-16 r83996) -- "Unsuffered Consequences" | 4551 |
palomino3 | Windows Server 2022 Datacenter | x64 | R Under development (unstable) (2023-03-15 r83984 ucrt) -- "Unsuffered Consequences" | 4312 |
merida1 | macOS 10.14.6 Mojave | x86_64 | R Under development (unstable) (2023-03-16 r83985) -- "Unsuffered Consequences" | 4309 |
Click on any hostname to see more info about the system (e.g. compilers) (*) as reported by 'uname -p', except on Windows and Mac OS X |
To the developers/maintainers of the SAIGEgds package: - Allow up to 24 hours (and sometimes 48 hours) for your latest push to git@git.bioconductor.org:packages/SAIGEgds.git to reflect on this report. See Troubleshooting Build Report for more information. - Use the following Renviron settings to reproduce errors and warnings. Note: If "R CMD check" recently failed on the Linux builder over a missing dependency, add the missing dependency to "Suggests" in your DESCRIPTION file. See the Renviron.bioc for details. |
Package 1777/2199 | Hostname | OS / Arch | INSTALL | BUILD | CHECK | BUILD BIN | ||||||||
SAIGEgds 1.99.1 (landing page) Xiuwen Zheng
| nebbiolo1 | Linux (Ubuntu 22.04.1 LTS) / x86_64 | OK | OK | OK | ![]() | ||||||||
palomino3 | Windows Server 2022 Datacenter / x64 | OK | OK | OK | NA | |||||||||
merida1 | macOS 10.14.6 Mojave / x86_64 | OK | OK | OK | OK | ![]() | ||||||||
Package: SAIGEgds |
Version: 1.99.1 |
Command: chmod a+r SAIGEgds -R && F:\biocbuild\bbs-3.17-bioc\R\bin\R.exe CMD build --keep-empty-dirs --no-resave-data SAIGEgds |
StartedAt: 2023-03-31 21:51:24 -0400 (Fri, 31 Mar 2023) |
EndedAt: 2023-03-31 21:53:23 -0400 (Fri, 31 Mar 2023) |
EllapsedTime: 118.6 seconds |
RetCode: 0 |
Status: OK |
PackageFile: SAIGEgds_1.99.1.tar.gz |
PackageFileSize: 1.855 MiB |
############################################################################## ############################################################################## ### ### Running command: ### ### chmod a+r SAIGEgds -R && F:\biocbuild\bbs-3.17-bioc\R\bin\R.exe CMD build --keep-empty-dirs --no-resave-data SAIGEgds ### ############################################################################## ############################################################################## * checking for file 'SAIGEgds/DESCRIPTION' ... OK * preparing 'SAIGEgds': * checking DESCRIPTION meta-information ... OK * cleaning src * installing the package to build vignettes * creating vignettes ... OK * cleaning src * checking for LF line-endings in source and make files and shell scripts * checking for empty or unneeded directories * building 'SAIGEgds_1.99.1.tar.gz'