Index of /checkResults/devel/bioc-LATEST/Rsubread/raw-results/nebbiolo1

[ICO]NameLast modifiedSizeDescription

[DIR]Parent Directory  -  
[TXT]buildsrc-out.txt22-Jan-2022 01:06 839  
[   ]buildsrc-summary.dcf22-Jan-2022 01:06 419  
[TXT]checksrc-out.txt22-Jan-2022 01:06 5.9K 
[   ]checksrc-summary.dcf22-Jan-2022 01:06 432  
[TXT]install-out.txt22-Jan-2022 01:06 28K 
[   ]install-summary.dcf22-Jan-2022 01:06 260