Index of /checkResults/devel/bioc-LATEST/Rsubread/raw-results

[ICO]NameLast modifiedSizeDescription

[DIR]Parent Directory  -  
[DIR]merida1/08-Dec-2022 01:10 -  
[DIR]nebbiolo1/08-Dec-2022 01:06 -  
[DIR]palomino3/08-Dec-2022 01:08 -  
[   ]info.dcf08-Dec-2022 01:10 339