Back to Multiple platform build/check report for BioC 3.16
ABCDEFGHIJKLMNOPQ[R]STUVWXYZ

This page was generated on 2022-06-24 11:07:07 -0400 (Fri, 24 Jun 2022).

HostnameOSArch (*)R versionInstalled pkgs
nebbiolo2Linux (Ubuntu 20.04.4 LTS)x86_644.2.0 Patched (2022-06-02 r82447) -- "Vigorous Calisthenics" 4331
palomino4Windows Server 2022 Datacenterx644.2.0 Patched (2022-06-02 r82447 ucrt) -- "Vigorous Calisthenics" 4136
lconwaymacOS 12.2.1 Montereyx86_644.2.0 Patched (2022-05-29 r82424) -- "Vigorous Calisthenics" 4147
Click on any hostname to see more info about the system (e.g. compilers)      (*) as reported by 'uname -p', except on Windows and Mac OS X

BUILD BIN results for Rqc on palomino4


To the developers/maintainers of the Rqc package:
- Please allow up to 24 hours (and sometimes 48 hours) for your latest push to git@git.bioconductor.org:packages/Rqc.git to
reflect on this report. See How and When does the builder pull? When will my changes propagate? for more information.
- Make sure to use the following settings in order to reproduce any error or warning you see on this page.

raw results

Package 1679/2118HostnameOS / ArchINSTALLBUILDCHECKBUILD BIN
Rqc 1.31.0  (landing page)
Welliton Souza
Snapshot Date: 2022-06-23 14:00:04 -0400 (Thu, 23 Jun 2022)
git_url: https://git.bioconductor.org/packages/Rqc
git_branch: master
git_last_commit: 0f5fb75
git_last_commit_date: 2022-04-26 11:22:41 -0400 (Tue, 26 Apr 2022)
nebbiolo2Linux (Ubuntu 20.04.4 LTS) / x86_64  OK    OK    OK  UNNEEDED, same version is already published
palomino4Windows Server 2022 Datacenter / x64  OK    OK    OK    OK  UNNEEDED, same version is already published
lconwaymacOS 12.2.1 Monterey / x86_64  OK    OK    OK    OK  UNNEEDED, same version is already published

Summary

Package: Rqc
Version: 1.31.0
Command: rm -rf Rqc.buildbin-libdir && mkdir Rqc.buildbin-libdir && F:\biocbuild\bbs-3.16-bioc\R\bin\R.exe CMD INSTALL --merge-multiarch --build --library=Rqc.buildbin-libdir Rqc_1.31.0.tar.gz
StartedAt: 2022-06-24 08:14:11 -0400 (Fri, 24 Jun 2022)
EndedAt: 2022-06-24 08:15:28 -0400 (Fri, 24 Jun 2022)
EllapsedTime: 76.8 seconds
RetCode: 0
Status:   OK  
PackageFile: Rqc_1.31.0.zip
PackageFileSize: 1.04 MiB

Command output

##############################################################################
##############################################################################
###
### Running command:
###
###   rm -rf Rqc.buildbin-libdir && mkdir Rqc.buildbin-libdir && F:\biocbuild\bbs-3.16-bioc\R\bin\R.exe CMD INSTALL --merge-multiarch --build --library=Rqc.buildbin-libdir Rqc_1.31.0.tar.gz
###
##############################################################################
##############################################################################


only one architecture so ignoring '--merge-multiarch'
* installing *source* package 'Rqc' ...
** using staged installation
** libs
g++ -std=gnu++11  -I"F:/biocbuild/bbs-3.16-bioc/R/include" -DNDEBUG  -I'F:/biocbuild/bbs-3.16-bioc/R/library/Rcpp/include'   -I"C:/rtools42/x86_64-w64-mingw32.static.posix/include"     -O2 -Wall  -mfpmath=sse -msse2 -mstackrealign  -c RRDNA.cpp -o RRDNA.o
RRDNA.cpp: In function 'Rcpp::StringVector toRRDNA(Rcpp::StringVector)':
RRDNA.cpp:51:27: warning: comparison of integer expressions of different signedness: 'R_len_t' {aka 'int'} and 'std::__cxx11::basic_string<char>::size_type' {aka 'long long unsigned int'} [-Wsign-compare]
   51 |             for (j = 0; j < dna.size(); j+=3)
      |                         ~~^~~~~~~~~~~~
RRDNA.cpp: In function 'Rcpp::StringVector fromRRDNA(Rcpp::StringVector)':
RRDNA.cpp:102:22: warning: comparison of integer expressions of different signedness: 'R_len_t' {aka 'int'} and 'std::__cxx11::basic_string<char>::size_type' {aka 'long long unsigned int'} [-Wsign-compare]
  102 |         for(j = 1; j < rrdna.size(); ++j) {
      |                    ~~^~~~~~~~~~~~~~
g++ -std=gnu++11  -I"F:/biocbuild/bbs-3.16-bioc/R/include" -DNDEBUG  -I'F:/biocbuild/bbs-3.16-bioc/R/library/Rcpp/include'   -I"C:/rtools42/x86_64-w64-mingw32.static.posix/include"     -O2 -Wall  -mfpmath=sse -msse2 -mstackrealign  -c RcppExports.cpp -o RcppExports.o
g++ -std=gnu++11 -shared -s -static-libgcc -o Rqc.dll tmp.def RRDNA.o RcppExports.o -LC:/rtools42/x86_64-w64-mingw32.static.posix/lib/x64 -LC:/rtools42/x86_64-w64-mingw32.static.posix/lib -LF:/biocbuild/bbs-3.16-bioc/R/bin/x64 -lR
installing to F:/biocbuild/bbs-3.16-bioc/meat/Rqc.buildbin-libdir/00LOCK-Rqc/00new/Rqc/libs/x64
** R
** inst
** byte-compile and prepare package for lazy loading
** help
*** installing help indices
** building package indices
** installing vignettes
** testing if installed package can be loaded from temporary location
** testing if installed package can be loaded from final location
** testing if installed package keeps a record of temporary installation path
* MD5 sums
packaged installation of 'Rqc' as Rqc_1.31.0.zip
* DONE (Rqc)