Name | Last modified | Size | Description | |
---|---|---|---|---|
Parent Directory | - | |||
buildsrc-out.txt | 29-Jun-2024 00:38 | 884 | ||
buildsrc-summary.dcf | 29-Jun-2024 00:38 | 415 | ||
checksrc-out.txt | 29-Jun-2024 00:38 | 3.3K | ||
checksrc-summary.dcf | 29-Jun-2024 00:38 | 404 | ||
install-out.txt | 29-Jun-2024 00:38 | 946 | ||
install-summary.dcf | 29-Jun-2024 00:38 | 254 | ||