Name | Last modified | Size | Description | |
---|---|---|---|---|
Parent Directory | - | |||
install-summary.dcf | 12-Jun-2024 04:41 | 269 | ||
checksrc-summary.dcf | 12-Jun-2024 04:41 | 448 | ||
buildsrc-summary.dcf | 12-Jun-2024 04:41 | 453 | ||
buildbin-summary.dcf | 12-Jun-2024 04:41 | 516 | ||
buildsrc-out.txt | 12-Jun-2024 04:41 | 899 | ||
install-out.txt | 12-Jun-2024 04:41 | 971 | ||
buildbin-out.txt | 12-Jun-2024 04:41 | 1.1K | ||
checksrc-out.txt | 12-Jun-2024 04:41 | 37K | ||