Index of /checkResults/devel/bioc-LATEST/RnBeads/raw-results/palomino3

[ICO]NameLast modifiedSizeDescription

[DIR]Parent Directory  -  
[TXT]install-out.txt29-Mar-2024 00:38 971  
[   ]install-summary.dcf29-Mar-2024 00:38 269  
[TXT]buildsrc-out.txt29-Mar-2024 00:38 899  
[   ]buildsrc-summary.dcf29-Mar-2024 00:38 453  
[   ]checksrc-summary.dcf29-Mar-2024 00:38 447  
[TXT]checksrc-out.txt29-Mar-2024 00:38 36K 
[TXT]buildbin-out.txt29-Mar-2024 00:38 1.1K 
[   ]buildbin-summary.dcf29-Mar-2024 00:38 516