Index of /checkResults/devel/bioc-LATEST/RnBeads/raw-results/nebbiolo1

[ICO]NameLast modifiedSizeDescription

[DIR]Parent Directory  -  
[   ]install-summary.dcf29-Mar-2024 00:37 259  
[TXT]install-out.txt29-Mar-2024 00:37 960  
[   ]checksrc-summary.dcf29-Mar-2024 00:37 414  
[TXT]checksrc-out.txt29-Mar-2024 00:37 37K 
[   ]buildsrc-summary.dcf29-Mar-2024 00:37 417  
[TXT]buildsrc-out.txt29-Mar-2024 00:37 869