Index of /checkResults/devel/bioc-LATEST/RnBeads/raw-results/merida1

[ICO]NameLast modifiedSizeDescription

[DIR]Parent Directory  -  
[   ]install-summary.dcf05-Mar-2024 01:39 270  
[   ]buildsrc-summary.dcf05-Mar-2024 01:39 428  
[   ]checksrc-summary.dcf05-Mar-2024 01:39 445  
[   ]buildbin-summary.dcf05-Mar-2024 01:39 531  
[TXT]buildsrc-out.txt05-Mar-2024 01:39 879  
[TXT]install-out.txt05-Mar-2024 01:39 1.0K 
[TXT]buildbin-out.txt05-Mar-2024 01:39 1.2K 
[TXT]checksrc-out.txt05-Mar-2024 01:39 35K