![]() | Name | Last modified | Size | Description |
---|---|---|---|---|
![]() | Parent Directory | - | ||
![]() | buildsrc-out.txt | 29-Sep-2023 00:41 | 863 | |
![]() | buildsrc-summary.dcf | 29-Sep-2023 00:41 | 412 | |
![]() | checksrc-out.txt | 29-Sep-2023 00:41 | 35K | |
![]() | checksrc-summary.dcf | 29-Sep-2023 00:41 | 402 | |
![]() | install-out.txt | 29-Sep-2023 00:41 | 948 | |
![]() | install-summary.dcf | 29-Sep-2023 00:41 | 254 | |