Index of /checkResults/devel/bioc-LATEST/RnBeads/raw-results

[ICO]NameLast modifiedSizeDescription

[DIR]Parent Directory  -  
[DIR]kunpeng2/07-Dec-2023 01:39 -  
[   ]info.dcf07-Dec-2023 01:39 1.0K 
[DIR]merida1/07-Dec-2023 01:38 -  
[DIR]palomino3/07-Dec-2023 01:37 -  
[DIR]nebbiolo1/07-Dec-2023 01:36 -