Name | Last modified | Size | Description | |
---|---|---|---|---|
Parent Directory | - | |||
buildsrc-out.txt | 30-Apr-2024 00:41 | 847 | ||
buildsrc-summary.dcf | 30-Apr-2024 00:41 | 429 | ||
checksrc-out.txt | 30-Apr-2024 00:41 | 4.8K | ||
checksrc-summary.dcf | 30-Apr-2024 00:41 | 450 | ||
install-out.txt | 30-Apr-2024 00:41 | 21K | ||
install-summary.dcf | 30-Apr-2024 00:41 | 271 | ||