Name | Last modified | Size | Description | |
---|---|---|---|---|
Parent Directory | - | |||
buildbin-out.txt | 27-Jul-2024 00:40 | 72K | ||
buildbin-summary.dcf | 27-Jul-2024 00:40 | 516 | ||
buildsrc-out.txt | 27-Jul-2024 00:40 | 871 | ||
buildsrc-summary.dcf | 27-Jul-2024 00:40 | 453 | ||
checksrc-out.txt | 27-Jul-2024 00:40 | 5.3K | ||
checksrc-summary.dcf | 27-Jul-2024 00:40 | 453 | ||
install-out.txt | 27-Jul-2024 00:40 | 72K | ||
install-summary.dcf | 27-Jul-2024 00:40 | 269 | ||