Name | Last modified | Size | Description | |
---|---|---|---|---|
Parent Directory | - | |||
buildbin-out.txt | 12-Jun-2024 04:41 | 72K | ||
buildbin-summary.dcf | 12-Jun-2024 04:41 | 516 | ||
buildsrc-out.txt | 12-Jun-2024 04:41 | 871 | ||
buildsrc-summary.dcf | 12-Jun-2024 04:41 | 453 | ||
checksrc-out.txt | 12-Jun-2024 04:41 | 5.3K | ||
checksrc-summary.dcf | 12-Jun-2024 04:41 | 453 | ||
install-out.txt | 12-Jun-2024 04:41 | 72K | ||
install-summary.dcf | 12-Jun-2024 04:41 | 269 | ||