Index of /checkResults/devel/bioc-LATEST/Rhisat2/raw-results/palomino3

[ICO]NameLast modifiedSizeDescription

[DIR]Parent Directory  -  
[TXT]buildbin-out.txt29-Feb-2024 01:38 76K 
[   ]buildbin-summary.dcf29-Feb-2024 01:38 515  
[TXT]buildsrc-out.txt29-Feb-2024 01:38 871  
[   ]buildsrc-summary.dcf29-Feb-2024 01:38 453  
[TXT]checksrc-out.txt29-Feb-2024 01:38 5.3K 
[   ]checksrc-summary.dcf29-Feb-2024 01:38 453  
[TXT]install-out.txt29-Feb-2024 01:38 76K 
[   ]install-summary.dcf29-Feb-2024 01:38 269