Name | Last modified | Size | Description | |
---|---|---|---|---|
Parent Directory | - | |||
install-summary.dcf | 28-Jul-2024 00:39 | 260 | ||
install-out.txt | 28-Jul-2024 00:39 | 80K | ||
checksrc-summary.dcf | 28-Jul-2024 00:39 | 420 | ||
checksrc-out.txt | 28-Jul-2024 00:39 | 5.2K | ||
buildsrc-summary.dcf | 28-Jul-2024 00:39 | 424 | ||
buildsrc-out.txt | 28-Jul-2024 00:39 | 860 | ||