Index of /checkResults/devel/bioc-LATEST/Rhisat2/raw-results/merida1

[ICO]NameLast modifiedSizeDescription

[DIR]Parent Directory  -  
[   ]install-summary.dcf05-Mar-2024 01:39 270  
[TXT]install-out.txt05-Mar-2024 01:39 74K 
[   ]checksrc-summary.dcf05-Mar-2024 01:39 450  
[TXT]checksrc-out.txt05-Mar-2024 01:39 4.8K 
[   ]buildsrc-summary.dcf05-Mar-2024 01:39 428  
[TXT]buildsrc-out.txt05-Mar-2024 01:39 846  
[   ]buildbin-summary.dcf05-Mar-2024 01:39 529  
[TXT]buildbin-out.txt05-Mar-2024 01:39 76K