Name | Last modified | Size | Description | |
---|---|---|---|---|
Parent Directory | - | |||
install-summary.dcf | 27-Jul-2024 00:43 | 269 | ||
buildsrc-summary.dcf | 27-Jul-2024 00:43 | 427 | ||
checksrc-summary.dcf | 27-Jul-2024 00:43 | 450 | ||
buildbin-summary.dcf | 27-Jul-2024 00:43 | 529 | ||
buildsrc-out.txt | 27-Jul-2024 00:43 | 846 | ||
checksrc-out.txt | 27-Jul-2024 00:43 | 4.7K | ||
install-out.txt | 27-Jul-2024 00:43 | 112K | ||
buildbin-out.txt | 27-Jul-2024 00:43 | 114K | ||