Back to Multiple platform build/check report for BioC 3.19:   simplified   long
ABCDEFGHIJKLMNOPQ[R]STUVWXYZ

This page was generated on 2024-02-22 12:48:19 -0500 (Thu, 22 Feb 2024).

HostnameOSArch (*)R versionInstalled pkgs
nebbiolo1Linux (Ubuntu 22.04.3 LTS)x86_64R Under development (unstable) (2024-01-16 r85808) -- "Unsuffered Consequences" 4657
palomino3Windows Server 2022 Datacenterx64R Under development (unstable) (2024-01-14 r85805 ucrt) -- "Unsuffered Consequences" 4397
Click on any hostname to see more info about the system (e.g. compilers)      (*) as reported by 'uname -p', except on Windows and Mac OS X

Package 1725/2244HostnameOS / ArchINSTALLBUILDCHECKBUILD BIN
Rhisat2 1.19.1  (landing page)
Charlotte Soneson
Snapshot Date: 2024-02-21 14:10:10 -0500 (Wed, 21 Feb 2024)
git_url: https://git.bioconductor.org/packages/Rhisat2
git_branch: devel
git_last_commit: d05befa
git_last_commit_date: 2023-11-21 05:21:38 -0500 (Tue, 21 Nov 2023)
nebbiolo1Linux (Ubuntu 22.04.3 LTS) / x86_64  OK    OK    WARNINGS  UNNEEDED, same version is already published
palomino3Windows Server 2022 Datacenter / x64  OK    OK    WARNINGS    OK  UNNEEDED, same version is already published

BUILD results for Rhisat2 on nebbiolo1


To the developers/maintainers of the Rhisat2 package:
- Allow up to 24 hours (and sometimes 48 hours) for your latest push to git@git.bioconductor.org:packages/Rhisat2.git to reflect on this report. See Troubleshooting Build Report for more information.
- Use the following Renviron settings to reproduce errors and warnings.
- If 'R CMD check' started to fail recently on the Linux builder(s) over a missing dependency, add the missing dependency to 'Suggests:' in your DESCRIPTION file. See Renviron.bioc for more information.

raw results


Summary

Package: Rhisat2
Version: 1.19.1
Command: /home/biocbuild/bbs-3.19-bioc/R/bin/R CMD build --keep-empty-dirs --no-resave-data Rhisat2
StartedAt: 2024-02-21 18:53:18 -0500 (Wed, 21 Feb 2024)
EndedAt: 2024-02-21 18:56:47 -0500 (Wed, 21 Feb 2024)
EllapsedTime: 209.0 seconds
RetCode: 0
Status:   OK  
PackageFile: Rhisat2_1.19.1.tar.gz
PackageFileSize: 6.745 MiB

Command output

##############################################################################
##############################################################################
###
### Running command:
###
###   /home/biocbuild/bbs-3.19-bioc/R/bin/R CMD build --keep-empty-dirs --no-resave-data Rhisat2
###
##############################################################################
##############################################################################


* checking for file ‘Rhisat2/DESCRIPTION’ ... OK
* preparing ‘Rhisat2’:
* checking DESCRIPTION meta-information ... OK
* cleaning src
* installing the package to build vignettes
* creating vignettes ... OK
* cleaning src
* checking for LF line-endings in source and make files and shell scripts
* checking for empty or unneeded directories
* building ‘Rhisat2_1.19.1.tar.gz’