Back to Multiple platform build/check report for BioC 3.14
ABCDEFGHIJKLMNOPQ[R]STUVWXYZ

This page was generated on 2021-10-23 14:06:41 -0400 (Sat, 23 Oct 2021).

BUILD results for ReportingTools on riesling1

To the developers/maintainers of the ReportingTools package:
- Please allow up to 24 hours (and sometimes 48 hours) for your latest push to git@git.bioconductor.org:packages/ReportingTools.git to
reflect on this report. See How and When does the builder pull? When will my changes propagate? here for more information.
- Make sure to use the following settings in order to reproduce any error or warning you see on this page.

raw results

Package 1579/2083HostnameOS / ArchINSTALLBUILDCHECKBUILD BIN
ReportingTools 2.33.2  (landing page)
Jason A. Hackney , Gabriel Becker
Snapshot Date: 2021-10-22 14:50:11 -0400 (Fri, 22 Oct 2021)
git_url: https://git.bioconductor.org/packages/ReportingTools
git_branch: master
git_last_commit: 2ead986
git_last_commit_date: 2021-07-30 11:38:45 -0400 (Fri, 30 Jul 2021)
nebbiolo2Linux (Ubuntu 20.04.2 LTS) / x86_64  OK    OK    OK  UNNEEDED, same version is already published
riesling1Windows Server 2019 Standard / x64  OK    OK    OK    OK  UNNEEDED, same version is already published
merida1macOS 10.14.6 Mojave / x86_64  OK    OK    OK    OK  UNNEEDED, same version is already published

Summary

Package: ReportingTools
Version: 2.33.2
Command: chmod a+r ReportingTools -R && D:\biocbuild\bbs-3.14-bioc\R\bin\R.exe CMD build --keep-empty-dirs --no-resave-data ReportingTools
StartedAt: 2021-10-23 00:35:42 -0400 (Sat, 23 Oct 2021)
EndedAt: 2021-10-23 00:57:54 -0400 (Sat, 23 Oct 2021)
EllapsedTime: 1331.5 seconds
RetCode: 0
Status:   OK  
PackageFile: ReportingTools_2.33.2.tar.gz
PackageFileSize: 2.154 MiB

Command output

##############################################################################
##############################################################################
###
### Running command:
###
###   chmod a+r ReportingTools -R && D:\biocbuild\bbs-3.14-bioc\R\bin\R.exe CMD build --keep-empty-dirs --no-resave-data ReportingTools
###
##############################################################################
##############################################################################


* checking for file 'ReportingTools/DESCRIPTION' ... OK
* preparing 'ReportingTools':
* checking DESCRIPTION meta-information ... OK
* installing the package to build vignettes
* creating vignettes ... OK
* checking for LF line-endings in source and make files and shell scripts
* checking for empty or unneeded directories
* looking to see if a 'data/datalist' file should be added
* building 'ReportingTools_2.33.2.tar.gz'