Back to Multiple platform build/check report for BioC 3.15
ABCDEFGHIJKLMNOPQ[R]STUVWXYZ

This page was generated on 2022-01-26 11:08:33 -0500 (Wed, 26 Jan 2022).

HostnameOSArch (*)R versionInstalled pkgs
nebbiolo1Linux (Ubuntu 20.04.4 LTS)x86_64R Under development (unstable) (2022-01-05 r81451) -- "Unsuffered Consequences" 4164
riesling1Windows Server 2019 Standardx64R Under development (unstable) (2021-11-21 r81221) -- "Unsuffered Consequences" 4059
palomino3Windows Server 2022 Datacenterx64R Under development (unstable) (2021-12-21 r81400 ucrt) -- "Unsuffered Consequences" 4001
merida1macOS 10.14.6 Mojavex86_64R Under development (unstable) (2022-01-05 r81451) -- "Unsuffered Consequences" 4118
Click on any hostname to see more info about the system (e.g. compilers)      (*) as reported by 'uname -p', except on Windows and Mac OS X

BUILD BIN results for ReportingTools on riesling1


To the developers/maintainers of the ReportingTools package:
- Please allow up to 24 hours (and sometimes 48 hours) for your latest push to git@git.bioconductor.org:packages/ReportingTools.git to
reflect on this report. See How and When does the builder pull? When will my changes propagate? here for more information.
- Make sure to use the following settings in order to reproduce any error or warning you see on this page.

raw results

Package 1574/2075HostnameOS / ArchINSTALLBUILDCHECKBUILD BIN
ReportingTools 2.35.0  (landing page)
Jason A. Hackney , Gabriel Becker
Snapshot Date: 2022-01-25 13:55:17 -0500 (Tue, 25 Jan 2022)
git_url: https://git.bioconductor.org/packages/ReportingTools
git_branch: master
git_last_commit: d3a5ca7
git_last_commit_date: 2021-10-26 12:04:45 -0500 (Tue, 26 Oct 2021)
nebbiolo1Linux (Ubuntu 20.04.4 LTS) / x86_64  OK    OK    OK  UNNEEDED, same version is already published
riesling1Windows Server 2019 Standard / x64  OK    OK    OK    OK  
palomino3Windows Server 2022 Datacenter / x64  OK    OK    OK    OK  NO, package depends on 'Biobase' which is not available
merida1macOS 10.14.6 Mojave / x86_64  OK    OK    OK    OK  UNNEEDED, same version is already published

Summary

Package: ReportingTools
Version: 2.35.0
Command: rm -rf ReportingTools.buildbin-libdir && mkdir ReportingTools.buildbin-libdir && D:\biocbuild\bbs-3.15-bioc\R\bin\R.exe CMD INSTALL --build --library=ReportingTools.buildbin-libdir ReportingTools_2.35.0.tar.gz
StartedAt: 2022-01-25 21:17:31 -0500 (Tue, 25 Jan 2022)
EndedAt: 2022-01-25 21:19:58 -0500 (Tue, 25 Jan 2022)
EllapsedTime: 147.3 seconds
RetCode: 0
Status:   OK  
PackageFile: ReportingTools_2.35.0.zip
PackageFileSize: 2.261 MiB

Command output

##############################################################################
##############################################################################
###
### Running command:
###
###   rm -rf ReportingTools.buildbin-libdir && mkdir ReportingTools.buildbin-libdir && D:\biocbuild\bbs-3.15-bioc\R\bin\R.exe CMD INSTALL --build --library=ReportingTools.buildbin-libdir ReportingTools_2.35.0.tar.gz
###
##############################################################################
##############################################################################


* installing *source* package 'ReportingTools' ...
** using staged installation
** R
** data
** inst
** byte-compile and prepare package for lazy loading
in method for 'objectToHTML' with signature 'object="ggbio"': no definition for class "ggbio"
** help
*** installing help indices
  converting help for package 'ReportingTools'
    finding HTML links ... done
    BaseReportType-class                    html  
    CSVFile-class                           html  
    CSVFile                                 html  
    DataPackage-class                       html  
    DataPackage                             html  
    HTMLReport-class                        html  
    HTMLReport                              html  
    HTMLReportRef-class                     html  
REDIRECT:topic	 Previous alias or file overwritten by alias: D:/biocbuild/bbs-3.15-bioc/meat/ReportingTools.buildbin-libdir/00LOCK-ReportingTools/00new/ReportingTools/help/HTMLReport.html
    Link                                    html  
    ReportHandlers-class                    html  
    addReportColumns-methods                html  
    custHeaderPanel                         html  
    filename-methods                        html  
    finish-methods                          html  
    mockRnaSeqData                          html  
    objectToHTML-methods                    html  
    publish-methods                         html  
    finding level-2 HTML links ... done

    readReport                              html  
    reporting.theme                         html  
    reporting.theme.alternate               html  
    toReportDF-methods                      html  
    validConnection                         html  
** building package indices
** installing vignettes
** testing if installed package can be loaded from temporary location
** testing if installed package can be loaded from final location
** testing if installed package keeps a record of temporary installation path
* MD5 sums
packaged installation of 'ReportingTools' as ReportingTools_2.35.0.zip
* DONE (ReportingTools)