Index of /checkResults/devel/bioc-LATEST/ReportingTools/raw-results/palomino4
Name
Last modified
Size
Description
Parent Directory
-
buildsrc-out.txt
24-Sep-2023 00:37
1.7K
buildsrc-summary.dcf
24-Sep-2023 00:37
390
install-out.txt
24-Sep-2023 00:37
1.3K
install-summary.dcf
24-Sep-2023 00:37
282