Index of /checkResults/devel/bioc-LATEST/ReportingTools/raw-results/nebbiolo2

[ICO]NameLast modifiedSizeDescription

[DIR]Parent Directory  -  
[TXT]buildsrc-out.txt03-Oct-2023 00:36 1.5K 
[   ]buildsrc-summary.dcf03-Oct-2023 00:36 347  
[TXT]install-out.txt03-Oct-2023 00:36 1.2K 
[   ]install-summary.dcf03-Oct-2023 00:36 273