Index of /checkResults/devel/bioc-LATEST/ReportingTools/raw-results/lconway

[ICO]NameLast modifiedSizeDescription

[DIR]Parent Directory  -  
[TXT]buildsrc-out.txt04-Oct-2023 00:39 1.5K 
[   ]buildsrc-summary.dcf04-Oct-2023 00:39 358  
[TXT]install-out.txt04-Oct-2023 00:39 1.3K 
[   ]install-summary.dcf04-Oct-2023 00:39 283