Index of /checkResults/devel/bioc-LATEST/ReportingTools/raw-results
Name
Last modified
Size
Description
Parent Directory
-
nebbiolo2/
24-Sep-2023 00:36
-
palomino4/
24-Sep-2023 00:37
-
lconway/
24-Sep-2023 00:39
-
info.dcf
24-Sep-2023 00:40
372
kunpeng2/
24-Sep-2023 00:40
-