Back to Multiple platform build/check report for BioC 3.15
ABCDEFGHIJKLMNOPQ[R]STUVWXYZ

This page was generated on 2021-11-27 14:05:19 -0500 (Sat, 27 Nov 2021).

BUILD results for Repitools on riesling1

To the developers/maintainers of the Repitools package:
- Please allow up to 24 hours (and sometimes 48 hours) for your latest push to git@git.bioconductor.org:packages/Repitools.git to
reflect on this report. See How and When does the builder pull? When will my changes propagate? here for more information.
- Make sure to use the following settings in order to reproduce any error or warning you see on this page.

raw results

Package 1566/2068HostnameOS / ArchINSTALLBUILDCHECKBUILD BIN
Repitools 1.41.1  (landing page)
Mark Robinson
Snapshot Date: 2021-11-26 14:50:14 -0500 (Fri, 26 Nov 2021)
git_url: https://git.bioconductor.org/packages/Repitools
git_branch: master
git_last_commit: 1747762
git_last_commit_date: 2021-11-21 00:47:53 -0500 (Sun, 21 Nov 2021)
nebbiolo1Linux (Ubuntu 20.04.3 LTS) / x86_64  OK    OK    OK  UNNEEDED, same version is already published
riesling1Windows Server 2019 Standard / x64  OK    OK    OK    OK  
merida1macOS 10.14.6 Mojave / x86_64  OK    OK    OK    OK  UNNEEDED, same version is already published

Summary

Package: Repitools
Version: 1.41.1
Command: chmod a+r Repitools -R && D:\biocbuild\bbs-3.15-bioc\R\bin\R.exe CMD build --keep-empty-dirs --no-resave-data Repitools
StartedAt: 2021-11-26 23:14:52 -0500 (Fri, 26 Nov 2021)
EndedAt: 2021-11-26 23:19:36 -0500 (Fri, 26 Nov 2021)
EllapsedTime: 283.1 seconds
RetCode: 0
Status:   OK  
PackageFile: Repitools_1.41.1.tar.gz
PackageFileSize: 1.593 MiB

Command output

##############################################################################
##############################################################################
###
### Running command:
###
###   chmod a+r Repitools -R && D:\biocbuild\bbs-3.15-bioc\R\bin\R.exe CMD build --keep-empty-dirs --no-resave-data Repitools
###
##############################################################################
##############################################################################


* checking for file 'Repitools/DESCRIPTION' ... OK
* preparing 'Repitools':
* checking DESCRIPTION meta-information ... OK
* cleaning src
* installing the package to build vignettes
* creating vignettes ... OK
* cleaning src
* checking for LF line-endings in source and make files and shell scripts
* checking for empty or unneeded directories
* looking to see if a 'data/datalist' file should be added
  NB: this package now depends on R (>= 3.5.0)
  WARNING: Added dependency on R >= 3.5.0 because serialized objects in
  serialize/load version 3 cannot be read in older versions of R.
  File(s) containing such objects:
    'Repitools/data/hcRegions.RData' 'Repitools/data/samplesList.RData'
* building 'Repitools_1.41.1.tar.gz'