Back to Multiple platform build/check report for BioC 3.14
ABCDEFGHIJKLMNOPQ[R]STUVWXYZ

This page was generated on 2021-10-20 12:05:22 -0400 (Wed, 20 Oct 2021).

BUILD BIN results for Repitools on riesling1

To the developers/maintainers of the Repitools package:
- Please allow up to 24 hours (and sometimes 48 hours) for your latest push to git@git.bioconductor.org:packages/Repitools.git to
reflect on this report. See How and When does the builder pull? When will my changes propagate? here for more information.
- Make sure to use the following settings in order to reproduce any error or warning you see on this page.

raw results

Package 1571/2072HostnameOS / ArchINSTALLBUILDCHECKBUILD BIN
Repitools 1.39.0  (landing page)
Mark Robinson
Snapshot Date: 2021-10-19 14:50:04 -0400 (Tue, 19 Oct 2021)
git_url: https://git.bioconductor.org/packages/Repitools
git_branch: master
git_last_commit: 426e950
git_last_commit_date: 2021-05-19 11:49:04 -0400 (Wed, 19 May 2021)
nebbiolo2Linux (Ubuntu 20.04.2 LTS) / x86_64  OK    OK    OK  UNNEEDED, same version is already published
riesling1Windows Server 2019 Standard / x64  OK    OK    OK    OK  UNNEEDED, same version is already published
merida1macOS 10.14.6 Mojave / x86_64  OK    OK    OK    NA  

Summary

Package: Repitools
Version: 1.39.0
Command: rm -rf Repitools.buildbin-libdir && mkdir Repitools.buildbin-libdir && D:\biocbuild\bbs-3.14-bioc\R\bin\R.exe CMD INSTALL --merge-multiarch --build --library=Repitools.buildbin-libdir Repitools_1.39.0.tar.gz
StartedAt: 2021-10-20 07:47:06 -0400 (Wed, 20 Oct 2021)
EndedAt: 2021-10-20 07:51:51 -0400 (Wed, 20 Oct 2021)
EllapsedTime: 284.4 seconds
RetCode: 0
Status:   OK  
PackageFile: Repitools_1.39.0.zip
PackageFileSize: 2.713 MiB

Command output

##############################################################################
##############################################################################
###
### Running command:
###
###   rm -rf Repitools.buildbin-libdir && mkdir Repitools.buildbin-libdir && D:\biocbuild\bbs-3.14-bioc\R\bin\R.exe CMD INSTALL --merge-multiarch --build --library=Repitools.buildbin-libdir Repitools_1.39.0.tar.gz
###
##############################################################################
##############################################################################



install for i386

* installing *source* package 'Repitools' ...
** using staged installation
** libs
"C:/rtools40/mingw32/bin/"gcc  -I"D:/biocbuild/bbs-3.14-bioc/R/include" -DNDEBUG     -I"C:/extsoft/include"  -D R_NO_REMAP -I.    -O2 -Wall  -std=gnu99 -mfpmath=sse -msse2 -mstackrealign  -c const.c -o const.o
"C:/rtools40/mingw32/bin/"gcc  -I"D:/biocbuild/bbs-3.14-bioc/R/include" -DNDEBUG     -I"C:/extsoft/include"  -D R_NO_REMAP -I.    -O2 -Wall  -std=gnu99 -mfpmath=sse -msse2 -mstackrealign  -c hyp2f1.c -o hyp2f1.o
In file included from hyp2f1.c:81:
./mconf.h:100: warning: "DOMAIN" redefined
 #define DOMAIN  1 /* argument domain error */
 
In file included from D:/biocbuild/bbs-3.14-bioc/R/include/Rmath.h:45,
                 from hyp2f1.c:80:
C:/rtools40/mingw32/i686-w64-mingw32/include/math.h:29: note: this is the location of the previous definition
 #define DOMAIN  _DOMAIN
 
In file included from hyp2f1.c:81:
./mconf.h:101: warning: "SING" redefined
 #define SING  2 /* argument singularity */
 
In file included from D:/biocbuild/bbs-3.14-bioc/R/include/Rmath.h:45,
                 from hyp2f1.c:80:
C:/rtools40/mingw32/i686-w64-mingw32/include/math.h:30: note: this is the location of the previous definition
 #define SING  _SING
 
In file included from hyp2f1.c:81:
./mconf.h:102: warning: "OVERFLOW" redefined
 #define OVERFLOW 3 /* overflow range error */
 
In file included from D:/biocbuild/bbs-3.14-bioc/R/include/Rmath.h:45,
                 from hyp2f1.c:80:
C:/rtools40/mingw32/i686-w64-mingw32/include/math.h:31: note: this is the location of the previous definition
 #define OVERFLOW _OVERFLOW
 
In file included from hyp2f1.c:81:
./mconf.h:103: warning: "UNDERFLOW" redefined
 #define UNDERFLOW 4 /* underflow range error */
 
In file included from D:/biocbuild/bbs-3.14-bioc/R/include/Rmath.h:45,
                 from hyp2f1.c:80:
C:/rtools40/mingw32/i686-w64-mingw32/include/math.h:32: note: this is the location of the previous definition
 #define UNDERFLOW _UNDERFLOW
 
In file included from hyp2f1.c:81:
./mconf.h:104: warning: "TLOSS" redefined
 #define TLOSS  5 /* total loss of precision */
 
In file included from D:/biocbuild/bbs-3.14-bioc/R/include/Rmath.h:45,
                 from hyp2f1.c:80:
C:/rtools40/mingw32/i686-w64-mingw32/include/math.h:33: note: this is the location of the previous definition
 #define TLOSS  _TLOSS
 
In file included from hyp2f1.c:81:
./mconf.h:105: warning: "PLOSS" redefined
 #define PLOSS  6 /* partial loss of precision */
 
In file included from D:/biocbuild/bbs-3.14-bioc/R/include/Rmath.h:45,
                 from hyp2f1.c:80:
C:/rtools40/mingw32/i686-w64-mingw32/include/math.h:34: note: this is the location of the previous definition
 #define PLOSS  _PLOSS
 
"C:/rtools40/mingw32/bin/"gcc  -I"D:/biocbuild/bbs-3.14-bioc/R/include" -DNDEBUG     -I"C:/extsoft/include"  -D R_NO_REMAP -I.    -O2 -Wall  -std=gnu99 -mfpmath=sse -msse2 -mstackrealign  -c mtherr.c -o mtherr.o
In file included from mtherr.c:58:
./mconf.h:100: warning: "DOMAIN" redefined
 #define DOMAIN  1 /* argument domain error */
 
In file included from D:/biocbuild/bbs-3.14-bioc/R/include/R.h:58,
                 from mtherr.c:56:
C:/rtools40/mingw32/i686-w64-mingw32/include/math.h:29: note: this is the location of the previous definition
 #define DOMAIN  _DOMAIN
 
In file included from mtherr.c:58:
./mconf.h:101: warning: "SING" redefined
 #define SING  2 /* argument singularity */
 
In file included from D:/biocbuild/bbs-3.14-bioc/R/include/R.h:58,
                 from mtherr.c:56:
C:/rtools40/mingw32/i686-w64-mingw32/include/math.h:30: note: this is the location of the previous definition
 #define SING  _SING
 
In file included from mtherr.c:58:
./mconf.h:102: warning: "OVERFLOW" redefined
 #define OVERFLOW 3 /* overflow range error */
 
In file included from D:/biocbuild/bbs-3.14-bioc/R/include/R.h:58,
                 from mtherr.c:56:
C:/rtools40/mingw32/i686-w64-mingw32/include/math.h:31: note: this is the location of the previous definition
 #define OVERFLOW _OVERFLOW
 
In file included from mtherr.c:58:
./mconf.h:103: warning: "UNDERFLOW" redefined
 #define UNDERFLOW 4 /* underflow range error */
 
In file included from D:/biocbuild/bbs-3.14-bioc/R/include/R.h:58,
                 from mtherr.c:56:
C:/rtools40/mingw32/i686-w64-mingw32/include/math.h:32: note: this is the location of the previous definition
 #define UNDERFLOW _UNDERFLOW
 
In file included from mtherr.c:58:
./mconf.h:104: warning: "TLOSS" redefined
 #define TLOSS  5 /* total loss of precision */
 
In file included from D:/biocbuild/bbs-3.14-bioc/R/include/R.h:58,
                 from mtherr.c:56:
C:/rtools40/mingw32/i686-w64-mingw32/include/math.h:33: note: this is the location of the previous definition
 #define TLOSS  _TLOSS
 
In file included from mtherr.c:58:
./mconf.h:105: warning: "PLOSS" redefined
 #define PLOSS  6 /* partial loss of precision */
 
In file included from D:/biocbuild/bbs-3.14-bioc/R/include/R.h:58,
                 from mtherr.c:56:
C:/rtools40/mingw32/i686-w64-mingw32/include/math.h:34: note: this is the location of the previous definition
 #define PLOSS  _PLOSS
 
C:/rtools40/mingw32/bin/gcc -shared -s -static-libgcc -o Repitools.dll tmp.def const.o hyp2f1.o mtherr.o -LC:/extsoft/lib/i386 -LC:/extsoft/lib -LD:/biocbuild/bbs-3.14-bioc/R/bin/i386 -lR
installing to D:/biocbuild/bbs-3.14-bioc/meat/Repitools.buildbin-libdir/00LOCK-Repitools/00new/Repitools/libs/i386
** R
** data
** inst
** byte-compile and prepare package for lazy loading
** help
*** installing help indices
  converting help for package 'Repitools'
    finding HTML links ... done
    AdjustedCopyEstimate-class              html  
    finding level-2 HTML links ... done

    AffymetrixCdfFile-class                 html  
    AffymetrixCelSet-class                  html  
    BAM2GRanges                             html  
    BayMethList-class                       html  
    ChromaBlocks                            html  
    ChromaResults-class                     html  
    ClusteredScoresList-class               html  
    CopyEstimate-class                      html  
    FastQC-class                            html  
    GCAdjustParams-class                    html  
    GCadjustCopy                            html  
    GCbiasPlots                             html  
    MappabilitySource-class                 html  
    QdnaData                                html  
    ScoresList-class                        html  
    abcdDNA                                 html  
    absoluteCN                              html  
    annoDF2GR                               html  
    annoGR2DF                               html  
    annotationBlocksCounts                  html  
    annotationBlocksLookup                  html  
    annotationCounts                        html  
    annotationLookup                        html  
    binPlots                                html  
    blocksStats                             html  
    checkProbes                             html  
    chr21genes                              html  
    chromosomeCNplots                       html  
    clusterPlots                            html  
    cpgBoxPlots                             html  
    cpgDensityCalc                          html  
    cpgDensityPlot                          html  
    determineOffset                         html  
    empBayes                                html  
    enrichmentCalc                          html  
    enrichmentPlot                          html  
    expr                                    html  
    featureBlocks                           html  
    featureScores                           html  
    findClusters                            html  
    gcContentCalc                           html  
    genQC                                   html  
    genomeBlocks                            html  
    getProbePositionsDf                     html  
    getSampleOffsets                        html  
    hcRegions                               html  
    hyper                                   html  
    loadPairFile                            html  
    loadSampleDirectory                     html  
    makeWindowLookupTable                   html  
    mappabilityCalc                         html  
    maskOut                                 html  
    mergeReplicates                         html  
    methylEst                               html  
    multiHeatmap                            html  
    plotClusters                            html  
    plotQdnaByCN                            html  
    processNDF                              html  
    profilePlots                            html  
    regionStats                             html  
    relativeCN                              html  
    samplesList                             html  
    sequenceCalc                            html  
    setCNVOffsets                           html  
    summarizeScores                         html  
    writeWig                                html  
** building package indices
** installing vignettes
** testing if installed package can be loaded from temporary location
** testing if installed package can be loaded from final location
** testing if installed package keeps a record of temporary installation path

install for x64

* installing *source* package 'Repitools' ...
** libs
"C:/rtools40/mingw64/bin/"gcc  -I"D:/biocbuild/bbs-3.14-bioc/R/include" -DNDEBUG     -I"C:/extsoft/include"  -D R_NO_REMAP -I.    -O2 -Wall  -std=gnu99 -mfpmath=sse -msse2 -mstackrealign  -c const.c -o const.o
"C:/rtools40/mingw64/bin/"gcc  -I"D:/biocbuild/bbs-3.14-bioc/R/include" -DNDEBUG     -I"C:/extsoft/include"  -D R_NO_REMAP -I.    -O2 -Wall  -std=gnu99 -mfpmath=sse -msse2 -mstackrealign  -c hyp2f1.c -o hyp2f1.o
In file included from hyp2f1.c:81:
./mconf.h:100: warning: "DOMAIN" redefined
 #define DOMAIN  1 /* argument domain error */
 
In file included from D:/biocbuild/bbs-3.14-bioc/R/include/Rmath.h:45,
                 from hyp2f1.c:80:
C:/rtools40/mingw64/x86_64-w64-mingw32/include/math.h:29: note: this is the location of the previous definition
 #define DOMAIN  _DOMAIN
 
In file included from hyp2f1.c:81:
./mconf.h:101: warning: "SING" redefined
 #define SING  2 /* argument singularity */
 
In file included from D:/biocbuild/bbs-3.14-bioc/R/include/Rmath.h:45,
                 from hyp2f1.c:80:
C:/rtools40/mingw64/x86_64-w64-mingw32/include/math.h:30: note: this is the location of the previous definition
 #define SING  _SING
 
In file included from hyp2f1.c:81:
./mconf.h:102: warning: "OVERFLOW" redefined
 #define OVERFLOW 3 /* overflow range error */
 
In file included from D:/biocbuild/bbs-3.14-bioc/R/include/Rmath.h:45,
                 from hyp2f1.c:80:
C:/rtools40/mingw64/x86_64-w64-mingw32/include/math.h:31: note: this is the location of the previous definition
 #define OVERFLOW _OVERFLOW
 
In file included from hyp2f1.c:81:
./mconf.h:103: warning: "UNDERFLOW" redefined
 #define UNDERFLOW 4 /* underflow range error */
 
In file included from D:/biocbuild/bbs-3.14-bioc/R/include/Rmath.h:45,
                 from hyp2f1.c:80:
C:/rtools40/mingw64/x86_64-w64-mingw32/include/math.h:32: note: this is the location of the previous definition
 #define UNDERFLOW _UNDERFLOW
 
In file included from hyp2f1.c:81:
./mconf.h:104: warning: "TLOSS" redefined
 #define TLOSS  5 /* total loss of precision */
 
In file included from D:/biocbuild/bbs-3.14-bioc/R/include/Rmath.h:45,
                 from hyp2f1.c:80:
C:/rtools40/mingw64/x86_64-w64-mingw32/include/math.h:33: note: this is the location of the previous definition
 #define TLOSS  _TLOSS
 
In file included from hyp2f1.c:81:
./mconf.h:105: warning: "PLOSS" redefined
 #define PLOSS  6 /* partial loss of precision */
 
In file included from D:/biocbuild/bbs-3.14-bioc/R/include/Rmath.h:45,
                 from hyp2f1.c:80:
C:/rtools40/mingw64/x86_64-w64-mingw32/include/math.h:34: note: this is the location of the previous definition
 #define PLOSS  _PLOSS
 
"C:/rtools40/mingw64/bin/"gcc  -I"D:/biocbuild/bbs-3.14-bioc/R/include" -DNDEBUG     -I"C:/extsoft/include"  -D R_NO_REMAP -I.    -O2 -Wall  -std=gnu99 -mfpmath=sse -msse2 -mstackrealign  -c mtherr.c -o mtherr.o
In file included from mtherr.c:58:
./mconf.h:100: warning: "DOMAIN" redefined
 #define DOMAIN  1 /* argument domain error */
 
In file included from D:/biocbuild/bbs-3.14-bioc/R/include/R.h:58,
                 from mtherr.c:56:
C:/rtools40/mingw64/x86_64-w64-mingw32/include/math.h:29: note: this is the location of the previous definition
 #define DOMAIN  _DOMAIN
 
In file included from mtherr.c:58:
./mconf.h:101: warning: "SING" redefined
 #define SING  2 /* argument singularity */
 
In file included from D:/biocbuild/bbs-3.14-bioc/R/include/R.h:58,
                 from mtherr.c:56:
C:/rtools40/mingw64/x86_64-w64-mingw32/include/math.h:30: note: this is the location of the previous definition
 #define SING  _SING
 
In file included from mtherr.c:58:
./mconf.h:102: warning: "OVERFLOW" redefined
 #define OVERFLOW 3 /* overflow range error */
 
In file included from D:/biocbuild/bbs-3.14-bioc/R/include/R.h:58,
                 from mtherr.c:56:
C:/rtools40/mingw64/x86_64-w64-mingw32/include/math.h:31: note: this is the location of the previous definition
 #define OVERFLOW _OVERFLOW
 
In file included from mtherr.c:58:
./mconf.h:103: warning: "UNDERFLOW" redefined
 #define UNDERFLOW 4 /* underflow range error */
 
In file included from D:/biocbuild/bbs-3.14-bioc/R/include/R.h:58,
                 from mtherr.c:56:
C:/rtools40/mingw64/x86_64-w64-mingw32/include/math.h:32: note: this is the location of the previous definition
 #define UNDERFLOW _UNDERFLOW
 
In file included from mtherr.c:58:
./mconf.h:104: warning: "TLOSS" redefined
 #define TLOSS  5 /* total loss of precision */
 
In file included from D:/biocbuild/bbs-3.14-bioc/R/include/R.h:58,
                 from mtherr.c:56:
C:/rtools40/mingw64/x86_64-w64-mingw32/include/math.h:33: note: this is the location of the previous definition
 #define TLOSS  _TLOSS
 
In file included from mtherr.c:58:
./mconf.h:105: warning: "PLOSS" redefined
 #define PLOSS  6 /* partial loss of precision */
 
In file included from D:/biocbuild/bbs-3.14-bioc/R/include/R.h:58,
                 from mtherr.c:56:
C:/rtools40/mingw64/x86_64-w64-mingw32/include/math.h:34: note: this is the location of the previous definition
 #define PLOSS  _PLOSS
 
C:/rtools40/mingw64/bin/gcc -shared -s -static-libgcc -o Repitools.dll tmp.def const.o hyp2f1.o mtherr.o -LC:/extsoft/lib/x64 -LC:/extsoft/lib -LD:/biocbuild/bbs-3.14-bioc/R/bin/x64 -lR
installing to D:/biocbuild/bbs-3.14-bioc/meat/Repitools.buildbin-libdir/Repitools/libs/x64
** testing if installed package can be loaded
* MD5 sums
packaged installation of 'Repitools' as Repitools_1.39.0.zip
* DONE (Repitools)