Name | Last modified | Size | Description | |
---|---|---|---|---|
Parent Directory | - | |||
install-out.txt | 12-Jun-2024 04:41 | 6.5K | ||
install-summary.dcf | 12-Jun-2024 04:41 | 272 | ||
buildsrc-out.txt | 12-Jun-2024 04:41 | 941 | ||
buildsrc-summary.dcf | 12-Jun-2024 04:41 | 461 | ||
checksrc-out.txt | 12-Jun-2024 04:41 | 6.1K | ||
checksrc-summary.dcf | 12-Jun-2024 04:41 | 461 | ||
buildbin-out.txt | 12-Jun-2024 04:41 | 6.6K | ||
buildbin-summary.dcf | 12-Jun-2024 04:41 | 528 | ||