![]() | Name | Last modified | Size | Description |
---|---|---|---|---|
![]() | Parent Directory | - | ||
![]() | buildsrc-out.txt | 24-Sep-2023 00:36 | 1.2K | |
![]() | buildsrc-summary.dcf | 24-Sep-2023 00:36 | 423 | |
![]() | checksrc-out.txt | 24-Sep-2023 00:36 | 5.4K | |
![]() | checksrc-summary.dcf | 24-Sep-2023 00:36 | 428 | |
![]() | install-out.txt | 24-Sep-2023 00:36 | 1.7K | |
![]() | install-summary.dcf | 24-Sep-2023 00:36 | 263 | |