Name | Last modified | Size | Description | |
---|---|---|---|---|
Parent Directory | - | |||
install-summary.dcf | 12-Jun-2024 04:42 | 273 | ||
buildsrc-summary.dcf | 12-Jun-2024 04:42 | 434 | ||
checksrc-summary.dcf | 12-Jun-2024 04:42 | 458 | ||
buildbin-summary.dcf | 12-Jun-2024 04:42 | 542 | ||
buildsrc-out.txt | 12-Jun-2024 04:42 | 917 | ||
install-out.txt | 12-Jun-2024 04:42 | 2.9K | ||
buildbin-out.txt | 12-Jun-2024 04:42 | 5.0K | ||
checksrc-out.txt | 12-Jun-2024 04:42 | 6.2K | ||