Name | Last modified | Size | Description | |
---|---|---|---|---|
Parent Directory | - | |||
buildbin-summary.dcf | 28-Jul-2024 00:41 | 542 | ||
buildbin-out.txt | 28-Jul-2024 00:41 | 5.0K | ||
checksrc-summary.dcf | 28-Jul-2024 00:41 | 458 | ||
checksrc-out.txt | 28-Jul-2024 00:41 | 6.2K | ||
buildsrc-summary.dcf | 28-Jul-2024 00:41 | 433 | ||
buildsrc-out.txt | 28-Jul-2024 00:41 | 917 | ||
install-summary.dcf | 28-Jul-2024 00:41 | 273 | ||
install-out.txt | 28-Jul-2024 00:41 | 2.9K | ||