![]() | Name | Last modified | Size | Description |
---|---|---|---|---|
![]() | Parent Directory | - | ||
![]() | buildbin-out.txt | 24-Sep-2023 00:39 | 4.1K | |
![]() | buildbin-summary.dcf | 24-Sep-2023 00:39 | 542 | |
![]() | buildsrc-out.txt | 24-Sep-2023 00:39 | 1.2K | |
![]() | buildsrc-summary.dcf | 24-Sep-2023 00:39 | 433 | |
![]() | checksrc-out.txt | 24-Sep-2023 00:39 | 5.4K | |
![]() | checksrc-summary.dcf | 24-Sep-2023 00:39 | 458 | |
![]() | install-out.txt | 24-Sep-2023 00:39 | 2.2K | |
![]() | install-summary.dcf | 24-Sep-2023 00:39 | 273 | |