Index of /checkResults/devel/bioc-LATEST/Repitools/raw-results/kunpeng2

[ICO]NameLast modifiedSizeDescription

[DIR]Parent Directory  -  
[TXT]buildsrc-out.txt07-Dec-2023 01:39 921  
[   ]buildsrc-summary.dcf07-Dec-2023 01:39 345  
[TXT]install-out.txt07-Dec-2023 01:39 666  
[   ]install-summary.dcf07-Dec-2023 01:39 274