Index of /checkResults/devel/bioc-LATEST/RegEnrich/raw-results/lconway
Name
Last modified
Size
Description
Parent Directory
-
buildsrc-out.txt
29-Mar-2024 00:39
1.5K
buildsrc-summary.dcf
29-Mar-2024 00:39
348
install-out.txt
29-Mar-2024 00:39
1.0K
install-summary.dcf
29-Mar-2024 00:39
273