Back to Multiple platform build/check report for BioC 3.15
ABCDEFGHIJKLMNOPQ[R]STUVWXYZ

This page was generated on 2022-01-24 11:08:12 -0500 (Mon, 24 Jan 2022).

HostnameOSArch (*)R versionInstalled pkgs
nebbiolo1Linux (Ubuntu 20.04.4 LTS)x86_64R Under development (unstable) (2022-01-05 r81451) -- "Unsuffered Consequences" 4163
riesling1Windows Server 2019 Standardx64R Under development (unstable) (2021-11-21 r81221) -- "Unsuffered Consequences" 4058
palomino3Windows Server 2022 Datacenterx64R Under development (unstable) (2021-12-21 r81400 ucrt) -- "Unsuffered Consequences" 4000
merida1macOS 10.14.6 Mojavex86_64R Under development (unstable) (2022-01-05 r81451) -- "Unsuffered Consequences" 4117
Click on any hostname to see more info about the system (e.g. compilers)      (*) as reported by 'uname -p', except on Windows and Mac OS X

BUILD BIN results for ReactomePA on riesling1


To the developers/maintainers of the ReactomePA package:
- Please allow up to 24 hours (and sometimes 48 hours) for your latest push to git@git.bioconductor.org:packages/ReactomePA.git to
reflect on this report. See How and When does the builder pull? When will my changes propagate? here for more information.
- Make sure to use the following settings in order to reproduce any error or warning you see on this page.

raw results

Package 1554/2075HostnameOS / ArchINSTALLBUILDCHECKBUILD BIN
ReactomePA 1.39.0  (landing page)
Guangchuang Yu
Snapshot Date: 2022-01-23 13:55:15 -0500 (Sun, 23 Jan 2022)
git_url: https://git.bioconductor.org/packages/ReactomePA
git_branch: master
git_last_commit: 259b881
git_last_commit_date: 2021-10-26 12:02:32 -0500 (Tue, 26 Oct 2021)
nebbiolo1Linux (Ubuntu 20.04.4 LTS) / x86_64  OK    OK    OK  UNNEEDED, same version is already published
riesling1Windows Server 2019 Standard / x64  OK    OK    OK    OK  
palomino3Windows Server 2022 Datacenter / x64  OK    OK    OK    OK  NO, package depends on 'AnnotationDbi' which is not available
merida1macOS 10.14.6 Mojave / x86_64  OK    OK    OK    OK  NO, package depends on 'DOSE' which is not available

Summary

Package: ReactomePA
Version: 1.39.0
Command: rm -rf ReactomePA.buildbin-libdir && mkdir ReactomePA.buildbin-libdir && D:\biocbuild\bbs-3.15-bioc\R\bin\R.exe CMD INSTALL --build --library=ReactomePA.buildbin-libdir ReactomePA_1.39.0.tar.gz
StartedAt: 2022-01-23 21:15:47 -0500 (Sun, 23 Jan 2022)
EndedAt: 2022-01-23 21:16:57 -0500 (Sun, 23 Jan 2022)
EllapsedTime: 69.5 seconds
RetCode: 0
Status:   OK  
PackageFile: ReactomePA_1.39.0.zip
PackageFileSize: 101.6 KiB

Command output

##############################################################################
##############################################################################
###
### Running command:
###
###   rm -rf ReactomePA.buildbin-libdir && mkdir ReactomePA.buildbin-libdir && D:\biocbuild\bbs-3.15-bioc\R\bin\R.exe CMD INSTALL --build --library=ReactomePA.buildbin-libdir ReactomePA_1.39.0.tar.gz
###
##############################################################################
##############################################################################


* installing *source* package 'ReactomePA' ...
** using staged installation
** R
** inst
** byte-compile and prepare package for lazy loading
** help
*** installing help indices
  converting help for package 'ReactomePA'
    finding HTML links ... done
    DataSet                                 html  
    ReactomePA-package                      html  
    finding level-2 HTML links ... done

    enrichPathway                           html  
    getALLEG                                html  
    getDb                                   html  
    gsePathway                              html  
    reexports                               html  
    viewPathway                             html  
** building package indices
** installing vignettes
** testing if installed package can be loaded from temporary location
** testing if installed package can be loaded from final location
** testing if installed package keeps a record of temporary installation path
* MD5 sums
packaged installation of 'ReactomePA' as ReactomePA_1.39.0.zip
* DONE (ReactomePA)