Index of /checkResults/devel/bioc-LATEST/ReactomePA/raw-results/lconway

[ICO]NameLast modifiedSizeDescription

[DIR]Parent Directory  -  
[TXT]buildbin-out.txt17-Jul-2024 00:42 1.2K 
[   ]buildbin-summary.dcf17-Jul-2024 00:42 548  
[TXT]buildsrc-out.txt17-Jul-2024 00:42 828  
[   ]buildsrc-summary.dcf17-Jul-2024 00:42 436  
[TXT]checksrc-out.txt17-Jul-2024 00:42 3.3K 
[   ]checksrc-summary.dcf17-Jul-2024 00:42 456  
[TXT]install-out.txt17-Jul-2024 00:42 1.0K 
[   ]install-summary.dcf17-Jul-2024 00:42 275