Index of /checkResults/devel/bioc-LATEST/ReactomeContentService4R/raw-results
Name
Last modified
Size
Description
Parent Directory
-
kunpeng2/
16-May-2024 02:46
-
info.dcf
23-May-2024 00:35
297
nebbiolo2/
23-May-2024 00:36
-
palomino4/
23-May-2024 00:37
-
merida1/
23-May-2024 00:38
-