Name | Last modified | Size | Description | |
---|---|---|---|---|
Parent Directory | - | |||
install-out.txt | 13-Jul-2024 01:30 | 962 | ||
install-summary.dcf | 13-Jul-2024 01:30 | 271 | ||
buildsrc-out.txt | 13-Jul-2024 01:30 | 854 | ||
buildsrc-summary.dcf | 13-Jul-2024 01:30 | 441 | ||
checksrc-out.txt | 13-Jul-2024 01:30 | 3.4K | ||
checksrc-summary.dcf | 13-Jul-2024 01:30 | 438 | ||