Index of /checkResults/devel/bioc-LATEST/Rcwl/raw-results
Name
Last modified
Size
Description
Parent Directory
-
info.dcf
01-Jun-2024 08:28
258
kjohnson1/
01-Jun-2024 08:32
-
kunpeng2/
16-May-2024 02:46
-
merida1/
01-Jun-2024 08:31
-
nebbiolo2/
01-Jun-2024 08:29
-