Back to Build/check report for BioC 3.13
ABCDEFGHIJKLMNOPQ[R]STUVWXYZ

Build/check report for BioC 3.13

Results for Rcade

This page was generated on 2020-10-29 10:59:28 -0400 (Thu, 29 Oct 2020).

Package 1411/1906HostnameOS / ArchINSTALLBUILDCHECKBUILD BIN
Rcade 1.33.0
Jonathan Cairns
Snapshot Date: 2020-10-28 14:40:04 -0400 (Wed, 28 Oct 2020)
URL: https://git.bioconductor.org/packages/Rcade
Branch: master
Last Commit: 39cd357
Last Changed Date: 2020-10-27 10:47:44 -0400 (Tue, 27 Oct 2020)
malbec2 Linux (Ubuntu 18.04.4 LTS) / x86_64  OK  OK  OK UNNEEDED, same version exists in internal repository