Index of /checkResults/devel/bioc-LATEST/Rbec/raw-results/kunpeng2
Name
Last modified
Size
Description
Parent Directory
-
buildsrc-out.txt
16-May-2024 02:46
2.6K
buildsrc-summary.dcf
16-May-2024 02:46
338
install-out.txt
16-May-2024 02:46
2.4K
install-summary.dcf
16-May-2024 02:46
267