Index of /checkResults/devel/bioc-LATEST/Rbec/raw-results/kunpeng2
Name
Last modified
Size
Description
Parent Directory
-
buildsrc-out.txt
29-Mar-2024 00:41
2.6K
buildsrc-summary.dcf
29-Mar-2024 00:41
336
install-out.txt
29-Mar-2024 00:41
2.4K
install-summary.dcf
29-Mar-2024 00:41
265