Back to Multiple platform build/check report for BioC 3.11
ABCDEFGHIJKLMNOPQ[R]STUVWXYZ

Multiple platform build/check report for BioC 3.11

Results for Rariant

This page was generated on 2020-04-05 13:10:30 -0400 (Sun, 05 Apr 2020).

Package 1387/1857HostnameOS / ArchINSTALLBUILDCHECKBUILD BIN
Rariant 1.23.0
Julian Gehring
Snapshot Date: 2020-04-04 16:45:21 -0400 (Sat, 04 Apr 2020)
URL: https://git.bioconductor.org/packages/Rariant
Branch: master
Last Commit: 32942f5
Last Changed Date: 2019-10-29 13:37:23 -0400 (Tue, 29 Oct 2019)
malbec2 Linux (Ubuntu 18.04.4 LTS) / x86_64  OK  OK  WARNINGS UNNEEDED, same version exists in internal repository
tokay2 Windows Server 2012 R2 Standard / x64  OK  OK  WARNINGS  OK UNNEEDED, same version exists in internal repository