Index of /checkResults/devel/bioc-LATEST/RandomWalkRestartMH/raw-results/kunpeng2
Name
Last modified
Size
Description
Parent Directory
-
buildsrc-summary.dcf
09-Jul-2024 00:45
344
buildsrc-out.txt
09-Jul-2024 00:45
934
install-summary.dcf
06-Jul-2024 00:44
273
install-out.txt
06-Jul-2024 00:44
644