Index of /checkResults/devel/bioc-LATEST/RandomWalkRestartMH/raw-results/kjohnson3
Name
Last modified
Size
Description
Parent Directory
-
buildsrc-out.txt
27-Jun-2024 00:39
1.0K
buildsrc-summary.dcf
27-Jun-2024 00:39
366
install-out.txt
27-Jun-2024 00:39
726
install-summary.dcf
27-Jun-2024 00:39
295